BEGIN:VCALENDAR
VERSION:2.0
PRODID:-//wp-events-plugin.com//7.2.3.1//EN
TZID:Europe/Paris
X-WR-TIMEZONE:Europe/Paris
BEGIN:VEVENT
UID:24@kayakbaie-morlaix.ddns.net
DTSTART;TZID=Europe/Paris:20260515T123000
DTEND;TZID=Europe/Paris:20260515T133000
DTSTAMP:20260204T132043Z
URL:https://kayakbaie-morlaix.ddns.net/index.php/events/betes-de-lestran-9
 /
SUMMARY:Bêtes de l'estran
DESCRIPTION:
CATEGORIES:estran
END:VEVENT
BEGIN:VTIMEZONE
TZID:Europe/Paris
X-LIC-LOCATION:Europe/Paris
BEGIN:DAYLIGHT
DTSTART:20260329T030000
TZOFFSETFROM:+0100
TZOFFSETTO:+0200
TZNAME:CEST
END:DAYLIGHT
END:VTIMEZONE
END:VCALENDAR