BEGIN:VCALENDAR
VERSION:2.0
PRODID:-//wp-events-plugin.com//7.2.3.1//EN
TZID:Europe/Paris
X-WR-TIMEZONE:Europe/Paris
BEGIN:VEVENT
UID:44@kayakbaie-morlaix.ddns.net
DTSTART;TZID=Europe/Paris:20260319T150000
DTEND;TZID=Europe/Paris:20260319T170000
DTSTAMP:20260210T085639Z
URL:https://kayakbaie-morlaix.ddns.net/index.php/events/kayak-de-mer-14/
SUMMARY:kayak de mer
DESCRIPTION:
CATEGORIES:Kayak
END:VEVENT
BEGIN:VTIMEZONE
TZID:Europe/Paris
X-LIC-LOCATION:Europe/Paris
BEGIN:STANDARD
DTSTART:20251026T020000
TZOFFSETFROM:+0200
TZOFFSETTO:+0100
TZNAME:CET
END:STANDARD
END:VTIMEZONE
END:VCALENDAR