BEGIN:VCALENDAR
VERSION:2.0
PRODID:-//wp-events-plugin.com//7.2.3.1//EN
TZID:Europe/Paris
X-WR-TIMEZONE:Europe/Paris
BEGIN:VEVENT
UID:28@kayakbaie-morlaix.ddns.net
DTSTART;TZID=Europe/Paris:20260715T130000
DTEND;TZID=Europe/Paris:20260715T140000
DTSTAMP:20260204T132557Z
URL:https://kayakbaie-morlaix.ddns.net/index.php/events/sortie-ile-noire/
SUMMARY:sortie Ile Noire
DESCRIPTION:
CATEGORIES:Kayak
END:VEVENT
BEGIN:VTIMEZONE
TZID:Europe/Paris
X-LIC-LOCATION:Europe/Paris
BEGIN:DAYLIGHT
DTSTART:20260329T030000
TZOFFSETFROM:+0100
TZOFFSETTO:+0200
TZNAME:CEST
END:DAYLIGHT
END:VTIMEZONE
END:VCALENDAR